Workbook

Sheet Instruktion
B1: Instruktioner
A3: 1. | B3: Fyll i poängfördelningen som du tror på under flik "Återstående matcher". Du fyller i de vita fälten benämnda poäng prognos. OBS! Det är POÄNG du fyller i, inte antal mål.
A4: 2. | B4: Du kan nu se tabell-läget (Sortera) efter serieslut baserat på din poängprognos under flik "Tabeller" (Tabell prognos)
A5: 3. | B5: Efter varje omgång fyller du i Poäng utfall för respektive match under flik "Återstående matcher.
A6: 4. | B6: Du kan nu se hur tabell-läget förändras kontra din poängprognos under flik "Tabeller". (Tabell Utfall+Prognos)
A7: 5. | B7: Under flik "Resultat" kan du se hur många matcher du gissat rätt på per omgång och totalt.
B9: Lycka till och HEJA BRYNÄS! :D

Sheet Återstående matcher
A1: Omgång 43 | E1: Omgång 44 | I1: Omgång 45 | M1: Omgång 46 | Q1: Omgång 47 | U1: Omgång 48 | Y1: Omgång 49 | AC1: Omgång 50 | AG1: Omgång 51 | AK1: Omgång 52
A2: 42416.792 | B2: Rögle BK | C2: vs | D2: Modo Hockey | E2: 42418.792 | F2: Skellefteå AIK | G2: vs | H2: Luleå Hockey | I2: 42420.667 | J2: Brynäs IF | K2: vs | L2: Djurgården Hockey | M2: 42423.792 | N2: Luleå Hockey | O2: vs | P2: Örebro Hockey | Q2: 42425.792 | R2: Modo Hockey | S2: vs | T2: Skellefteå AIK | U2: 42427.667 | V2: Skellefteå AIK | W2: vs | X2: Färjestad BK | Y2: 42430.792 | Z2: Luleå Hockey | AA2: vs | AB2: Frölunda HC | AC2: 42432.792 | AD2: Skellefteå AIK | AE2: vs | AF2: Djurgården Hockey | AG2: 42434.667 | AH2: Luleå Hockey | AI2: vs | AJ2: Djurgården Hockey | AK2: 42437.792 | AL2: Skellefteå AIK | AM2: vs | AN2: HV 71
A3: Poäng prognos | C3: - | E3: Poäng prognos | G3: - | I3: Poäng prognos | K3: - | M3: Poäng prognos | O3: - | Q3: Poäng prognos | S3: - | U3: Poäng prognos | W3: - | Y3: Poäng prognos | AA3: - | AC3: Poäng prognos | AE3: - | AG3: Poäng prognos | AI3: - | AK3: Poäng prognos | AM3: -
A4: 42416.792 | B4: Växjö Lakers | C4: vs | D4: Djurgården Hockey | E4: 42418.792 | F4: Modo Hockey | G4: vs | H4: Färjestad BK | I4: 42420.667 | J4: Rögle BK | K4: vs | L4: Skellefteå AIK | M4: 42423.792 | N4: Skellefteå AIK | O4: vs | P4: Modo Hockey | Q4: 42425.792 | R4: Örebro Hockey | S4: vs | T4: Djurgården Hockey | U4: 42427.667 | V4: Malmö Redhawks | W4: vs | X4: Karlskrona HK | Y4: 42430.792 | Z4: Djurgården Hockey | AA4: vs | AB4: Modo Hockey | AC4: 42432.792 | AD4: Modo Hockey | AE4: vs | AF4: Växjö Lakers | AG4: 42434.667 | AH4: Örebro Hockey | AI4: vs | AJ4: Skellefteå AIK | AK4: 42437.792 | AL4: Modo Hockey | AM4: vs | AN4: Örebro Hockey
A5: Poäng prognos | C5: - | E5: Poäng prognos | G5: - | I5: Poäng prognos | K5: - | M5: Poäng prognos | O5: - | Q5: Poäng prognos | S5: - | U5: Poäng prognos | W5: - | Y5: Poäng prognos | AA5: - | AC5: Poäng prognos | AE5: - | AG5: Poäng prognos | AI5: - | AK5: Poäng prognos | AM5: -
A6: 42416.792 | B6: Färjestad BK | C6: vs | D6: Örebro Hockey | E6: 42418.792 | F6: Brynäs IF | G6: vs | H6: Rögle BK | I6: 42420.667 | J6: Färjestad BK | K6: vs | L6: Malmö Redhawks | M6: 42423.792 | N6: Djurgården Hockey | O6: vs | P6: Frölunda HC | Q6: 42425.792 | R6: HV 71 | S6: vs | T6: Färjestad BK | U6: 42427.771 | V6: Modo Hockey | W6: vs | X6: Frölunda HC | Y6: 42430.792 | Z6: Växjö Lakers | AA6: vs | AB6: HV 71 | AC6: 42432.792 | AD6: Örebro Hockey | AE6: vs | AF6: Karlskrona HK | AG6: 42434.667 | AH6: Färjestad BK | AI6: vs | AJ6: Brynäs IF | AK6: 42437.792 | AL6: Brynäs IF | AM6: vs | AN6: Frölunda HC
A7: Poäng prognos | C7: - | E7: Poäng prognos | G7: - | I7: Poäng prognos | K7: - | M7: Poäng prognos | O7: - | Q7: Poäng prognos | S7: - | U7: Poäng prognos | W7: - | Y7: Poäng prognos | AA7: - | AC7: Poäng prognos | AE7: - | AG7: Poäng prognos | AI7: - | AK7: Poäng prognos | AM7: -
A8: 42416.792 | B8: Linköping HC | C8: vs | D8: Skellefteå AIK | E8: 42418.792 | F8: Djurgården Hockey | G8: vs | H8: Linköping HC | I8: 42420.667 | J8: Linköping HC | K8: vs | L8: Växjö Lakers | M8: 42423.792 | N8: Färjestad BK | O8: vs | P8: Karlskrona HK | Q8: 42425.792 | R8: Frölunda HC | S8: vs | T8: Malmö Redhawks | U8: 42427.771 | V8: Örebro Hockey | W8: vs | X8: HV 71 | Y8: 42430.792 | Z8: Linköping HC | AA8: vs | AB8: Örebro Hockey | AC8: 42432.792 | AD8: HV 71 | AE8: vs | AF8: Luleå Hockey | AG8: 42434.667 | AH8: Linköping HC | AI8: vs | AJ8: HV 71 | AK8: 42437.792 | AL8: Djurgården Hockey | AM8: vs | AN8: Färjestad BK
A9: Poäng prognos | C9: - | E9: Poäng prognos | G9: - | I9: Poäng prognos | K9: - | M9: Poäng prognos | O9: - | Q9: Poäng prognos | S9: - | U9: Poäng prognos | W9: - | Y9: Poäng prognos | AA9: - | AC9: Poäng prognos | AE9: - | AG9: Poäng prognos | AI9: - | AK9: Poäng prognos | AM9: -
A10: 42416.792 | B10: HV 71 | C10: vs | D10: Brynäs IF | E10: 42418.792 | F10: Malmö Redhawks | G10: vs | H10: Växjö Lakers | I10: 42420.667 | J10: HV 71 | K10: vs | L10: Karlskrona HK | M10: 42423.792 | N10: Malmö Redhawks | O10: vs | P10: HV 71 | Q10: 42425.792 | R10: Karlskrona HK | S10: vs | T10: Luleå Hockey | U10: 42427.771 | V10: Växjö Lakers | W10: vs | X10: Rögle BK | Y10: 42430.792 | Z10: Karlskrona HK | AA10: vs | AB10: Skellefteå AIK | AC10: 42432.792 | AD10: Frölunda HC | AE10: vs | AF10: Linköping HC | AG10: 42434.667 | AH10: Frölunda HC | AI10: vs | AJ10: Växjö Lakers | AK10: 42437.792 | AL10: Rögle BK | AM10: vs | AN10: Karlskrona HK
A11: Poäng prognos | C11: - | E11: Poäng prognos | G11: - | I11: Poäng prognos | K11: - | M11: Poäng prognos | O11: - | Q11: Poäng prognos | S11: - | U11: Poäng prognos | W11: - | Y11: Poäng prognos | AA11: - | AC11: Poäng prognos | AE11: - | AG11: Poäng prognos | AI11: - | AK11: Poäng prognos | AM11: -
A12: 42416.792 | B12: Luleå Hockey | C12: vs | D12: Malmö Redhawks | E12: 42419.792 | F12: Örebro Hockey | G12: vs | H12: Frölunda HC | I12: 42420.771 | J12: Luleå Hockey | K12: vs | L12: Modo Hockey | M12: 42424.792 | N12: Växjö Lakers | O12: vs | P12: Brynäs IF | Q12: 42426.792 | R12: Rögle BK | S12: vs | T12: Växjö Lakers | U12: 42427.771 | V12: Linköping HC | W12: vs | X12: Brynäs IF | Y12: 42431.792 | Z12: Färjestad BK | AA12: vs | AB12: Rögle BK | AC12: 42433.792 | AD12: Brynäs IF | AE12: vs | AF12: Färjestad BK | AG12: 42434.667 | AH12: Malmö Redhawks | AI12: vs | AJ12: Rögle BK | AK12: 42437.792 | AL12: Växjö Lakers | AM12: vs | AN12: Luleå Hockey
A13: Poäng prognos | C13: - | E13: Poäng prognos | G13: - | I13: Poäng prognos | K13: - | M13: Poäng prognos | O13: - | Q13: Poäng prognos | S13: - | U13: Poäng prognos | W13: - | Y13: Poäng prognos | AA13: - | AC13: Poäng prognos | AE13: - | AG13: Poäng prognos | AI13: - | AK13: Poäng prognos | AM13: -
A14: 42417.792 | B14: Frölunda HC | C14: vs | D14: Karlskrona HK | E14: 42419.792 | F14: Karlskrona HK | G14: vs | H14: HV 71 | I14: 42420.771 | J14: Frölunda HC | K14: vs | L14: Örebro Hockey | M14: 42424.792 | N14: Linköping HC | O14: vs | P14: Rögle BK | Q14: 42428.792 | R14: Brynäs IF | S14: vs | T14: Linköping HC | U14: 42427.771 | V14: Djurgården Hockey | W14: vs | X14: Luleå Hockey | Y14: 42431.792 | Z14: Malmö Redhawks | AA14: vs | AB14: Brynäs IF | AC14: 42433.792 | AD14: Rögle BK | AE14: vs | AF14: Malmö Redhawks | AG14: 42434.667 | AH14: Karlskrona HK | AI14: vs | AJ14: Modo Hockey | AK14: 42437.792 | AL14: Linköping HC | AM14: vs | AN14: Malmö Redhawks
A15: Poäng prognos | C15: - | E15: Poäng prognos | G15: - | I15: Poäng prognos | K15: - | M15: Poäng prognos | O15: - | Q15: Poäng prognos | S15: - | U15: Poäng prognos | W15: - | Y15: Poäng prognos | AA15: - | AC15: Poäng prognos | AE15: - | AG15: Poäng prognos | AI15: - | AK15: Poäng prognos | AM15: -
A16: Omgång 43 | E16: Omgång 44 | I16: Omgång 45 | M16: Omgång 46 | Q16: Omgång 47 | U16: Omgång 48 | Y16: Omgång 49 | AC16: Omgång 50 | AG16: Omgång 51 | AK16: Omgång 52
A17: 42416.792 | B17: Rögle BK | C17: vs | D17: Modo Hockey | E17: 42418.792 | F17: Skellefteå AIK | G17: vs | H17: Luleå Hockey | I17: 42420.667 | J17: Brynäs IF | K17: vs | L17: Djurgården Hockey | M17: 42423.792 | N17: Luleå Hockey | O17: vs | P17: Örebro Hockey | Q17: 42425.792 | R17: Modo Hockey | S17: vs | T17: Skellefteå AIK | U17: 42427.667 | V17: Skellefteå AIK | W17: vs | X17: Färjestad BK | Y17: 42430.792 | Z17: Luleå Hockey | AA17: vs | AB17: Frölunda HC | AC17: 42432.792 | AD17: Skellefteå AIK | AE17: vs | AF17: Djurgården Hockey | AG17: 42434.667 | AH17: Luleå Hockey | AI17: vs | AJ17: Djurgården Hockey | AK17: 42437.792 | AL17: Skellefteå AIK | AM17: vs | AN17: HV 71
A18: Poäng Utfall | C18: - | E18: Poäng Utfall | G18: - | I18: Poäng Utfall | K18: - | M18: Poäng Utfall | O18: - | Q18: Poäng Utfall | S18: - | U18: Poäng Utfall | W18: - | Y18: Poäng Utfall | AA18: - | AC18: Poäng Utfall | AE18: - | AG18: Poäng Utfall | AI18: - | AK18: Poäng Utfall | AM18: -
A19: 42416.792 | B19: Växjö Lakers | C19: vs | D19: Djurgården Hockey | E19: 42418.792 | F19: Modo Hockey | G19: vs | H19: Färjestad BK | I19: 42420.667 | J19: Rögle BK | K19: vs | L19: Skellefteå AIK | M19: 42423.792 | N19: Skellefteå AIK | O19: vs | P19: Modo Hockey | Q19: 42425.792 | R19: Örebro Hockey | S19: vs | T19: Djurgården Hockey | U19: 42427.667 | V19: Malmö Redhawks | W19: vs | X19: Karlskrona HK | Y19: 42430.792 | Z19: Djurgården Hockey | AA19: vs | AB19: Modo Hockey | AC19: 42432.792 | AD19: Modo Hockey | AE19: vs | AF19: Växjö Lakers | AG19: 42434.667 | AH19: Örebro Hockey | AI19: vs | AJ19: Skellefteå AIK | AK19: 42437.792 | AL19: Modo Hockey | AM19: vs | AN19: Örebro Hockey
A20: Poäng Utfall | C20: - | E20: Poäng Utfall | G20: - | I20: Poäng Utfall | K20: - | M20: Poäng Utfall | O20: - | Q20: Poäng Utfall | S20: - | U20: Poäng Utfall | W20: - | Y20: Poäng Utfall | AA20: - | AC20: Poäng Utfall | AE20: - | AG20: Poäng Utfall | AI20: - | AK20: Poäng Utfall | AM20: -
A21: 42416.792 | B21: Färjestad BK | C21: vs | D21: Örebro Hockey | E21: 42418.792 | F21: Brynäs IF | G21: vs | H21: Rögle BK | I21: 42420.667 | J21: Färjestad BK | K21: vs | L21: Malmö Redhawks | M21: 42423.792 | N21: Djurgården Hockey | O21: vs | P21: Frölunda HC | Q21: 42425.792 | R21: HV 71 | S21: vs | T21: Färjestad BK | U21: 42427.771 | V21: Modo Hockey | W21: vs | X21: Frölunda HC | Y21: 42430.792 | Z21: Växjö Lakers | AA21: vs | AB21: HV 71 | AC21: 42432.792 | AD21: Örebro Hockey | AE21: vs | AF21: Karlskrona HK | AG21: 42434.667 | AH21: Färjestad BK | AI21: vs | AJ21: Brynäs IF | AK21: 42437.792 | AL21: Brynäs IF | AM21: vs | AN21: Frölunda HC
A22: Poäng Utfall | C22: - | E22: Poäng Utfall | G22: - | I22: Poäng Utfall | K22: - | M22: Poäng Utfall | O22: - | Q22: Poäng Utfall | S22: - | U22: Poäng Utfall | W22: - | Y22: Poäng Utfall | AA22: - | AC22: Poäng Utfall | AE22: - | AG22: Poäng Utfall | AI22: - | AK22: Poäng Utfall | AM22: -
A23: 42416.792 | B23: Linköping HC | C23: vs | D23: Skellefteå AIK | E23: 42418.792 | F23: Djurgården Hockey | G23: vs | H23: Linköping HC | I23: 42420.667 | J23: Linköping HC | K23: vs | L23: Växjö Lakers | M23: 42423.792 | N23: Färjestad BK | O23: vs | P23: Karlskrona HK | Q23: 42425.792 | R23: Frölunda HC | S23: vs | T23: Malmö Redhawks | U23: 42427.771 | V23: Örebro Hockey | W23: vs | X23: HV 71 | Y23: 42430.792 | Z23: Linköping HC | AA23: vs | AB23: Örebro Hockey | AC23: 42432.792 | AD23: HV 71 | AE23: vs | AF23: Luleå Hockey | AG23: 42434.667 | AH23: Linköping HC | AI23: vs | AJ23: HV 71 | AK23: 42437.792 | AL23: Djurgården Hockey | AM23: vs | AN23: Färjestad BK
A24: Poäng Utfall | C24: - | E24: Poäng Utfall | G24: - | I24: Poäng Utfall | K24: - | M24: Poäng Utfall | O24: - | Q24: Poäng Utfall | S24: - | U24: Poäng Utfall | W24: - | Y24: Poäng Utfall | AA24: - | AC24: Poäng Utfall | AE24: - | AG24: Poäng Utfall | AI24: - | AK24: Poäng Utfall | AM24: -
A25: 42416.792 | B25: HV 71 | C25: vs | D25: Brynäs IF | E25: 42418.792 | F25: Malmö Redhawks | G25: vs | H25: Växjö Lakers | I25: 42420.667 | J25: HV 71 | K25: vs | L25: Karlskrona HK | M25: 42423.792 | N25: Malmö Redhawks | O25: vs | P25: HV 71 | Q25: 42425.792 | R25: Karlskrona HK | S25: vs | T25: Luleå Hockey | U25: 42427.771 | V25: Växjö Lakers | W25: vs | X25: Rögle BK | Y25: 42430.792 | Z25: Karlskrona HK | AA25: vs | AB25: Skellefteå AIK | AC25: 42432.792 | AD25: Frölunda HC | AE25: vs | AF25: Linköping HC | AG25: 42434.667 | AH25: Frölunda HC | AI25: vs | AJ25: Växjö Lakers | AK25: 42437.792 | AL25: Rögle BK | AM25: vs | AN25: Karlskrona HK
A26: Poäng Utfall | C26: - | E26: Poäng Utfall | G26: - | I26: Poäng Utfall | K26: - | M26: Poäng Utfall | O26: - | Q26: Poäng Utfall | S26: - | U26: Poäng Utfall | W26: - | Y26: Poäng Utfall | AA26: - | AC26: Poäng Utfall | AE26: - | AG26: Poäng Utfall | AI26: - | AK26: Poäng Utfall | AM26: -
A27: 42416.792 | B27: Luleå Hockey | C27: vs | D27: Malmö Redhawks | E27: 42419.792 | F27: Örebro Hockey | G27: vs | H27: Frölunda HC | I27: 42420.771 | J27: Luleå Hockey | K27: vs | L27: Modo Hockey | M27: 42424.792 | N27: Växjö Lakers | O27: vs | P27: Brynäs IF | Q27: 42426.792 | R27: Rögle BK | S27: vs | T27: Växjö Lakers | U27: 42427.771 | V27: Linköping HC | W27: vs | X27: Brynäs IF | Y27: 42431.792 | Z27: Färjestad BK | AA27: vs | AB27: Rögle BK | AC27: 42433.792 | AD27: Brynäs IF | AE27: vs | AF27: Färjestad BK | AG27: 42434.667 | AH27: Malmö Redhawks | AI27: vs | AJ27: Rögle BK | AK27: 42437.792 | AL27: Växjö Lakers | AM27: vs | AN27: Luleå Hockey
A28: Poäng Utfall | C28: - | E28: Poäng Utfall | G28: - | I28: Poäng Utfall | K28: - | M28: Poäng Utfall | O28: - | Q28: Poäng Utfall | S28: - | U28: Poäng Utfall | W28: - | Y28: Poäng Utfall | AA28: - | AC28: Poäng Utfall | AE28: - | AG28: Poäng Utfall | AI28: - | AK28: Poäng Utfall | AM28: -
A29: 42417.792 | B29: Frölunda HC | C29: vs | D29: Karlskrona HK | E29: 42419.792 | F29: Karlskrona HK | G29: vs | H29: HV 71 | I29: 42420.771 | J29: Frölunda HC | K29: vs | L29: Örebro Hockey | M29: 42424.792 | N29: Linköping HC | O29: vs | P29: Rögle BK | Q29: 42428.792 | R29: Brynäs IF | S29: vs | T29: Linköping HC | U29: 42427.771 | V29: Djurgården Hockey | W29: vs | X29: Luleå Hockey | Y29: 42431.792 | Z29: Malmö Redhawks | AA29: vs | AB29: Brynäs IF | AC29: 42433.792 | AD29: Rögle BK | AE29: vs | AF29: Malmö Redhawks | AG29: 42434.667 | AH29: Karlskrona HK | AI29: vs | AJ29: Modo Hockey | AK29: 42437.792 | AL29: Linköping HC | AM29: vs | AN29: Malmö Redhawks
A30: Poäng Utfall | C30: - | E30: Poäng Utfall | G30: - | I30: Poäng Utfall | K30: - | M30: Poäng Utfall | O30: - | Q30: Poäng Utfall | S30: - | U30: Poäng Utfall | W30: - | Y30: Poäng Utfall | AA30: - | AC30: Poäng Utfall | AE30: - | AG30: Poäng Utfall | AI30: - | AK30: Poäng Utfall | AM30: -

Sheet Tabeller
A1: Tabell prognos | E1: Tabell Utfall+Prognos | I1: Tabell utfall
A2: Lag | B2: Poäng efter omg. 42 | C2: Poäng serieslut | D2: Poäng omg. 43-52 | E2: Lag | F2: Poäng efter omg. 42 | G2: Poäng serieslut | H2: Poäng omg. 43-52 | I2: Lag | J2: Poäng efter 42 omg. | K2: Poäng kumulativ | L2: Poäng kumulativ omg 43-52
A3: Skellefteå | B3: 93 | C3: =B3+'Återstående matcher'!D9+'Återstående matcher'!F3+'Återstående matcher'!L5+'Återstående matcher'!N5+'Återstående matcher'!T3+'Återstående matcher'!V3+'Återstående matcher'!AB11+'Återstående matcher'!AD3+'Återstående matcher'!AJ5+'Återstående matcher'!AL3 -> 93 | D3: =C3-B3 -> 0 | E3: Skellefteå | F3: 93 | G3: =SUM(C3,Statistik!D9,Statistik!F3,Statistik!L5,Statistik!N5,Statistik!T3,Statistik!V3,Statistik!AB11,Statistik!AD3,Statistik!AJ5,Statistik!AL3) -> 93 | H3: =G3-F3 -> 0 | I3: Skellefteå | J3: 93 | K3: =B3+'Återstående matcher'!D24+'Återstående matcher'!F18+'Återstående matcher'!L20+'Återstående matcher'!N20+'Återstående matcher'!T18+'Återstående matcher'!V18+'Återstående matcher'!AB26+'Återstående matcher'!AD18+'Återstående matcher'!AJ20+'Återstående matcher'!AL18 -> 93 | L3: =K3-J3 -> 0
A4: Frölunda | B4: 85 | C4: =B4+'Återstående matcher'!B15+'Återstående matcher'!H13+'Återstående matcher'!J15+'Återstående matcher'!P7+'Återstående matcher'!R9+'Återstående matcher'!X7+'Återstående matcher'!AB3+'Återstående matcher'!AD11+'Återstående matcher'!AH11+'Återstående matcher'!AN7 -> 85 | D4: =C4-B4 -> 0 | E4: Frölunda | F4: 85 | G4: =SUM(C4,Statistik!B15,Statistik!H13,Statistik!J15,Statistik!P7,Statistik!R9,Statistik!X7,Statistik!AB3,Statistik!AD11,Statistik!AH11,Statistik!AN7) -> 85 | H4: =G4-F4 -> 0 | I4: Frölunda | J4: 85 | K4: =B4+'Återstående matcher'!B30+'Återstående matcher'!H28+'Återstående matcher'!J30+'Återstående matcher'!P22+'Återstående matcher'!R24+'Återstående matcher'!X22+'Återstående matcher'!AB18+'Återstående matcher'!AD26+'Återstående matcher'!AH26+'Återstående matcher'!AN22 -> 85 | L4: =K4-J4 -> 0
A5: Luleå | B5: 77 | C5: =B5+'Återstående matcher'!B13+'Återstående matcher'!H3+'Återstående matcher'!J13+'Återstående matcher'!N3+'Återstående matcher'!T11+'Återstående matcher'!X15+'Återstående matcher'!Z3+'Återstående matcher'!AF9+'Återstående matcher'!AH3+'Återstående matcher'!AN13 -> 77 | D5: =C5-B5 -> 0 | E5: Luleå | F5: 77 | G5: =SUM(C5,Statistik!B13,Statistik!H3,Statistik!J13,Statistik!N3,Statistik!T11,Statistik!X15,Statistik!Z3,Statistik!AF9,Statistik!AH3,Statistik!AN13) -> 77 | H5: =G5-F5 -> 0 | I5: Luleå | J5: 77 | K5: =B5+'Återstående matcher'!B28+'Återstående matcher'!H18+'Återstående matcher'!J28+'Återstående matcher'!N18+'Återstående matcher'!T26+'Återstående matcher'!X30+'Återstående matcher'!Z18+'Återstående matcher'!AF24+'Återstående matcher'!AH18+'Återstående matcher'!AN28 -> 77 | L5: =K5-J5 -> 0
A6: Linköping | B6: 74 | C6: =B6+'Återstående matcher'!B9+'Återstående matcher'!H9+'Återstående matcher'!J9+'Återstående matcher'!N15+'Återstående matcher'!T15+'Återstående matcher'!V13+'Återstående matcher'!Z9+'Återstående matcher'!AF11+'Återstående matcher'!AH9+'Återstående matcher'!AL15 -> 74 | D6: =C6-B6 -> 0 | E6: Linköping | F6: 74 | G6: =SUM(C6,Statistik!B9,Statistik!H9,Statistik!J9,Statistik!N15,Statistik!T15,Statistik!V13,Statistik!Z9,Statistik!AF11,Statistik!AH9,Statistik!AL15) -> 74 | H6: =G6-F6 -> 0 | I6: Linköping | J6: 74 | K6: =B6+'Återstående matcher'!B24+'Återstående matcher'!H24+'Återstående matcher'!J24+'Återstående matcher'!N30+'Återstående matcher'!T30+'Återstående matcher'!V28+'Återstående matcher'!Z24+'Återstående matcher'!AF26+'Återstående matcher'!AH24+'Återstående matcher'!AL30 -> 74 | L6: =K6-J6 -> 0
A7: Färjestad | B7: 73 | C7: =B7+'Återstående matcher'!B7+'Återstående matcher'!H5+'Återstående matcher'!J7+'Återstående matcher'!N9+'Återstående matcher'!T7+'Återstående matcher'!X3+'Återstående matcher'!Z13+'Återstående matcher'!AF13+'Återstående matcher'!AH7+'Återstående matcher'!AN9 -> 73 | D7: =C7-B7 -> 0 | E7: Färjestad | F7: 73 | G7: =SUM(C7,Statistik!B7,Statistik!H5,Statistik!J7,Statistik!N9,Statistik!T7,Statistik!X3,Statistik!Z13,Statistik!AF13,Statistik!AH7,Statistik!AN9) -> 73 | H7: =G7-F7 -> 0 | I7: Färjestad | J7: 73 | K7: =B7+'Återstående matcher'!B22+'Återstående matcher'!H20+'Återstående matcher'!J22+'Återstående matcher'!N24+'Återstående matcher'!T22+'Återstående matcher'!X18+'Återstående matcher'!Z28+'Återstående matcher'!AF28+'Återstående matcher'!AH22+'Återstående matcher'!AN24 -> 73 | L7: =K7-J7 -> 0
A8: Brynäs | B8: 71 | C8: =B8+'Återstående matcher'!D11+'Återstående matcher'!F7+'Återstående matcher'!J3+'Återstående matcher'!P13+'Återstående matcher'!R15+'Återstående matcher'!X13+'Återstående matcher'!AB15+'Återstående matcher'!AD13+'Återstående matcher'!AJ7+'Återstående matcher'!AL7 -> 71 | D8: =C8-B8 -> 0 | E8: Brynäs | F8: 71 | G8: =SUM(C8,Statistik!D11,Statistik!F7,Statistik!J3,Statistik!P13,Statistik!R15,Statistik!X13,Statistik!AB15,Statistik!AD13,Statistik!AJ7,Statistik!AL7) -> 71 | H8: =G8-F8 -> 0 | I8: Brynäs | J8: 71 | K8: =B8+'Återstående matcher'!D26+'Återstående matcher'!F22+'Återstående matcher'!J18+'Återstående matcher'!P28+'Återstående matcher'!R30+'Återstående matcher'!X28+'Återstående matcher'!AB30+'Återstående matcher'!AD28+'Återstående matcher'!AJ22+'Återstående matcher'!AL22 -> 71 | L8: =K8-J8 -> 0
A9: Djurgården | B9: 69 | C9: =B9+'Återstående matcher'!D5+'Återstående matcher'!F9+'Återstående matcher'!L3+'Återstående matcher'!N7+'Återstående matcher'!T5+'Återstående matcher'!V15+'Återstående matcher'!Z5+'Återstående matcher'!AF3+'Återstående matcher'!AJ3+'Återstående matcher'!AL9 -> 69 | D9: =C9-B9 -> 0 | E9: Djurgården | F9: 69 | G9: =SUM(C9,Statistik!D5,Statistik!F9,Statistik!L3,Statistik!N7,Statistik!T5,Statistik!V15,Statistik!Z5,Statistik!AF3,Statistik!AJ3,Statistik!AL9) -> 69 | H9: =G9-F9 -> 0 | I9: Djurgården | J9: 69 | K9: =B9+'Återstående matcher'!D20+'Återstående matcher'!F24+'Återstående matcher'!L18+'Återstående matcher'!N22+'Återstående matcher'!T20+'Återstående matcher'!V30+'Återstående matcher'!Z20+'Återstående matcher'!AF18+'Återstående matcher'!AJ18+'Återstående matcher'!AL24 -> 69 | L9: =K9-J9 -> 0
A10: Växjö | B10: 66 | C10: =B10+'Återstående matcher'!B5+'Återstående matcher'!H11+'Återstående matcher'!L9+'Återstående matcher'!N13+'Återstående matcher'!T13+'Återstående matcher'!V11+'Återstående matcher'!Z7+'Återstående matcher'!AF5+'Återstående matcher'!AJ11+'Återstående matcher'!AL13 -> 66 | D10: =C10-B10 -> 0 | E10: Växjö | F10: 66 | G10: =SUM(C10,Statistik!B5,Statistik!H11,Statistik!L9,Statistik!N13,Statistik!T13,Statistik!V11,Statistik!Z7,Statistik!AF5,Statistik!AJ11,Statistik!AL13) -> 66 | H10: =G10-F10 -> 0 | I10: Växjö | J10: 66 | K10: =B10+'Återstående matcher'!B20+'Återstående matcher'!H26+'Återstående matcher'!L24+'Återstående matcher'!N28+'Återstående matcher'!T28+'Återstående matcher'!V26+'Återstående matcher'!Z22+'Återstående matcher'!AF20+'Återstående matcher'!AJ26+'Återstående matcher'!AL28 -> 66 | L10: =K10-J10 -> 0
A11: HV71 | B11: 62 | C11: =B11+'Återstående matcher'!B11+'Återstående matcher'!H15+'Återstående matcher'!J11+'Återstående matcher'!P11+'Återstående matcher'!R7+'Återstående matcher'!X9+'Återstående matcher'!AB7+'Återstående matcher'!AD9+'Återstående matcher'!AJ9+'Återstående matcher'!AN3 -> 62 | D11: =C11-B11 -> 0 | E11: HV71 | F11: 62 | G11: =SUM(C11,Statistik!B11,Statistik!H15,Statistik!J11,Statistik!P11,Statistik!R7,Statistik!X9,Statistik!AB7,Statistik!AD9,Statistik!AJ9,Statistik!AN3) -> 62 | H11: =G11-F11 -> 0 | I11: HV71 | J11: 62 | K11: =B11+'Återstående matcher'!B26+'Återstående matcher'!H30+'Återstående matcher'!J26+'Återstående matcher'!P26+'Återstående matcher'!R22+'Återstående matcher'!X24+'Återstående matcher'!AB22+'Återstående matcher'!AD24+'Återstående matcher'!AJ24+'Återstående matcher'!AN18 -> 62 | L11: =K11-J11 -> 0
A12: Örebro | B12: 60 | C12: =B12+'Återstående matcher'!D7+'Återstående matcher'!F13+'Återstående matcher'!L15+'Återstående matcher'!P3+'Återstående matcher'!R5+'Återstående matcher'!V9+'Återstående matcher'!AB9+'Återstående matcher'!AD7+'Återstående matcher'!AH5+'Återstående matcher'!AN5 -> 60 | D12: =C12-B12 -> 0 | E12: Örebro | F12: 60 | G12: =SUM(C12,Statistik!D7,Statistik!F13,Statistik!L15,Statistik!P3,Statistik!R5,Statistik!V9,Statistik!AB9,Statistik!AD7,Statistik!AH5,Statistik!AN5) -> 60 | H12: =G12-F12 -> 0 | I12: Örebro | J12: 60 | K12: =B12+'Återstående matcher'!D22+'Återstående matcher'!F28+'Återstående matcher'!L30+'Återstående matcher'!P18+'Återstående matcher'!R20+'Återstående matcher'!V24+'Återstående matcher'!AB24+'Återstående matcher'!AD22+'Återstående matcher'!AH20+'Återstående matcher'!AN20 -> 60 | L12: =K12-J12 -> 0
A13: Rögle | B13: 44 | C13: =B13+'Återstående matcher'!B3+'Återstående matcher'!H7+'Återstående matcher'!J5+'Återstående matcher'!P15+'Återstående matcher'!R13+'Återstående matcher'!X11+'Återstående matcher'!AB13+'Återstående matcher'!AD15+'Återstående matcher'!AJ13+'Återstående matcher'!AL11 -> 44 | D13: =C13-B13 -> 0 | E13: Rögle | F13: 44 | G13: =SUM(C13,Statistik!B3,Statistik!H7,Statistik!J5,Statistik!P15,Statistik!R13,Statistik!X11,Statistik!AB13,Statistik!AD15,Statistik!AJ13,Statistik!AL11) -> 44 | H13: =G13-F13 -> 0 | I13: Rögle | J13: 44 | K13: =B13+'Återstående matcher'!B18+'Återstående matcher'!H22+'Återstående matcher'!J20+'Återstående matcher'!P30+'Återstående matcher'!R28+'Återstående matcher'!X26+'Återstående matcher'!AB28+'Återstående matcher'!AD30+'Återstående matcher'!AJ28+'Återstående matcher'!AL26 -> 44 | L13: =K13-J13 -> 0
A14: Malmö | B14: 43 | C14: =B14+'Återstående matcher'!D13+'Återstående matcher'!F11+'Återstående matcher'!L7+'Återstående matcher'!T9+'Återstående matcher'!N11+'Återstående matcher'!V5+'Återstående matcher'!Z15+'Återstående matcher'!AF15+'Återstående matcher'!AH13+'Återstående matcher'!AN15 -> 43 | D14: =C14-B14 -> 0 | E14: Malmö | F14: 43 | G14: =SUM(C14,Statistik!D13,Statistik!F11,Statistik!L7,Statistik!N11,Statistik!T9,Statistik!V5,Statistik!Z15,Statistik!AF15,Statistik!AH13,Statistik!AN15) -> 43 | H14: =G14-F14 -> 0 | I14: Malmö | J14: 43 | K14: =B14+'Återstående matcher'!D28+'Återstående matcher'!F26+'Återstående matcher'!L22+'Återstående matcher'!N26+'Återstående matcher'!T24+'Återstående matcher'!V20+'Återstående matcher'!Z30+'Återstående matcher'!AF30+'Återstående matcher'!AH28+'Återstående matcher'!AN30 -> 43 | L14: =K14-J14 -> 0
A15: Modo | B15: 39 | C15: =B15+'Återstående matcher'!D3+'Återstående matcher'!F5+'Återstående matcher'!L13+'Återstående matcher'!P5+'Återstående matcher'!R3+'Återstående matcher'!V7+'Återstående matcher'!AB5+'Återstående matcher'!AD5+'Återstående matcher'!AJ15+'Återstående matcher'!AL5 -> 39 | D15: =C15-B15 -> 0 | E15: Modo | F15: 39 | G15: =SUM(C15,Statistik!D3,Statistik!F5,Statistik!L13,Statistik!P5,Statistik!R3,Statistik!V7,Statistik!AB5,Statistik!AD5,Statistik!AJ15,Statistik!AL5) -> 39 | H15: =G15-F15 -> 0 | I15: Modo | J15: 39 | K15: =B15+'Återstående matcher'!D18+'Återstående matcher'!F20+'Återstående matcher'!L28+'Återstående matcher'!P20+'Återstående matcher'!R18+'Återstående matcher'!V22+'Återstående matcher'!AB20+'Återstående matcher'!AD20+'Återstående matcher'!AJ30+'Återstående matcher'!AL20 -> 39 | L15: =K15-J15 -> 0
A16: Karlskrona | B16: 26 | C16: =B16+'Återstående matcher'!D15+'Återstående matcher'!F15+'Återstående matcher'!L11+'Återstående matcher'!P9+'Återstående matcher'!R11+'Återstående matcher'!X5+'Återstående matcher'!Z11+'Återstående matcher'!AF7+'Återstående matcher'!AH15+'Återstående matcher'!AN11 -> 26 | D16: =C16-B16 -> 0 | E16: Karlskrona | F16: 26 | G16: =SUM(C16,Statistik!D15,Statistik!F15,Statistik!L11,Statistik!P9,Statistik!R11,Statistik!X5,Statistik!Z11,Statistik!AF7,Statistik!AH15,Statistik!AN11) -> 26 | H16: =G16-F16 -> 0 | I16: Karlskrona | J16: 26 | K16: =B16+'Återstående matcher'!D30+'Återstående matcher'!F30+'Återstående matcher'!L26+'Återstående matcher'!P24+'Återstående matcher'!R26+'Återstående matcher'!X20+'Återstående matcher'!Z26+'Återstående matcher'!AF22+'Återstående matcher'!AH30+'Återstående matcher'!AN26 -> 26 | L16: =K16-J16 -> 0

Sheet Resultat
B1: Omgång
A2: Omgång | B2: 43 | C2: 44 | D2: 45 | E2: 46 | F2: 47 | G2: 48 | H2: 49 | I2: 50 | J2: 51 | K2: 52 | N2: =Fel
A3: Match 1 | B3: =Statistik!B35 -> 2 | C3: =Statistik!F35 -> 2 | D3: =Statistik!J35 -> 2 | E3: =Statistik!N35 -> 2 | F3: =Statistik!R35 -> 2 | G3: =Statistik!V35 -> 2 | H3: =Statistik!Z35 -> 2 | I3: =Statistik!AD35 -> 2 | J3: =Statistik!AH35 -> 2 | K3: =Statistik!AL35 -> 2 | N3: =Ej Spelad
A4: Match 2 | B4: =Statistik!B36 -> 2 | C4: =Statistik!F36 -> 2 | D4: =Statistik!J36 -> 2 | E4: =Statistik!N36 -> 2 | F4: =Statistik!R36 -> 2 | G4: =Statistik!V36 -> 2 | H4: =Statistik!Z36 -> 2 | I4: =Statistik!AD36 -> 2 | J4: =Statistik!AH36 -> 2 | K4: =Statistik!AL36 -> 2 | N4: =Rätt
A5: Match 3 | B5: =Statistik!B37 -> 2 | C5: =Statistik!F37 -> 2 | D5: =Statistik!J37 -> 2 | E5: =Statistik!N37 -> 2 | F5: =Statistik!R37 -> 2 | G5: =Statistik!V37 -> 2 | H5: =Statistik!Z37 -> 2 | I5: =Statistik!AD37 -> 2 | J5: =Statistik!AH37 -> 2 | K5: =Statistik!AL37 -> 2
A6: Match 4 | B6: =Statistik!B38 -> 2 | C6: =Statistik!F38 -> 2 | D6: =Statistik!J38 -> 2 | E6: =Statistik!N38 -> 2 | F6: =Statistik!R38 -> 2 | G6: =Statistik!V38 -> 2 | H6: =Statistik!Z38 -> 2 | I6: =Statistik!AD38 -> 2 | J6: =Statistik!AH38 -> 2 | K6: =Statistik!AL38 -> 2 | M6: Totalt antal rätt: | O6: =Statistik!B33 -> 0
A7: Match 5 | B7: =Statistik!B39 -> 2 | C7: =Statistik!F39 -> 2 | D7: =Statistik!J39 -> 2 | E7: =Statistik!N39 -> 2 | F7: =Statistik!R39 -> 2 | G7: =Statistik!V39 -> 2 | H7: =Statistik!Z39 -> 2 | I7: =Statistik!AD39 -> 2 | J7: =Statistik!AH39 -> 2 | K7: =Statistik!AL39 -> 2 | M7: Totalt antal fel: | O7: =Statistik!B32 -> 0
A8: Match 6 | B8: =Statistik!B40 -> 2 | C8: =Statistik!F40 -> 2 | D8: =Statistik!J40 -> 2 | E8: =Statistik!N40 -> 2 | F8: =Statistik!R40 -> 2 | G8: =Statistik!V40 -> 2 | H8: =Statistik!Z40 -> 2 | I8: =Statistik!AD40 -> 2 | J8: =Statistik!AH40 -> 2 | K8: =Statistik!AL40 -> 2
A9: Match 7 | B9: =Statistik!B41 -> 2 | C9: =Statistik!F41 -> 2 | D9: =Statistik!J41 -> 2 | E9: =Statistik!N41 -> 2 | F9: =Statistik!R41 -> 2 | G9: =Statistik!V41 -> 2 | H9: =Statistik!Z41 -> 2 | I9: =Statistik!AD41 -> 2 | J9: =Statistik!AH41 -> 2 | K9: =Statistik!AL41 -> 2

Sheet Statistik
A1: Omgång 43 | E1: Omgång 44 | I1: Omgång 45 | M1: Omgång 46 | Q1: Omgång 47 | U1: Omgång 48 | Y1: Omgång 49 | AC1: Omgång 50 | AG1: Omgång 51 | AK1: Omgång 52
A2: 42416.792 | B2: Rögle BK | C2: vs | D2: Modo Hockey | E2: 42418.792 | F2: Skellefteå AIK | G2: vs | H2: Luleå Hockey | I2: 42420.667 | J2: Brynäs IF | K2: vs | L2: Djurgården Hockey | M2: 42423.792 | N2: Luleå Hockey | O2: vs | P2: Örebro Hockey | Q2: 42425.792 | R2: Modo Hockey | S2: vs | T2: Skellefteå AIK | U2: 42427.667 | V2: Skellefteå AIK | W2: vs | X2: Färjestad BK | Y2: 42430.792 | Z2: Luleå Hockey | AA2: vs | AB2: Frölunda HC | AC2: 42432.792 | AD2: Skellefteå AIK | AE2: vs | AF2: Djurgården Hockey | AG2: 42434.667 | AH2: Luleå Hockey | AI2: vs | AJ2: Djurgården Hockey | AK2: 42437.792 | AL2: Skellefteå AIK | AM2: vs | AN2: HV 71
A3: Poäng prognos | B3: =IF('Återstående matcher'!B18="","",'Återstående matcher'!B18-'Återstående matcher'!B3) | C3: - | D3: =IF('Återstående matcher'!D18="","",'Återstående matcher'!D18-'Återstående matcher'!D3) | E3: Poäng prognos | F3: =IF('Återstående matcher'!F18="","",'Återstående matcher'!F18-'Återstående matcher'!F3) | G3: - | H3: =IF('Återstående matcher'!H18="","",'Återstående matcher'!H18-'Återstående matcher'!H3) | I3: Poäng prognos | J3: =IF('Återstående matcher'!J18="","",'Återstående matcher'!J18-'Återstående matcher'!J3) | K3: - | L3: =IF('Återstående matcher'!L18="","",'Återstående matcher'!L18-'Återstående matcher'!L3) | M3: Poäng prognos | N3: =IF('Återstående matcher'!N18="","",'Återstående matcher'!N18-'Återstående matcher'!N3) | O3: - | P3: =IF('Återstående matcher'!P18="","",'Återstående matcher'!P18-'Återstående matcher'!P3) | Q3: Poäng prognos | R3: =IF('Återstående matcher'!R18="","",'Återstående matcher'!R18-'Återstående matcher'!R3) | S3: - | T3: =IF('Återstående matcher'!T18="","",'Återstående matcher'!T18-'Återstående matcher'!T3) | U3: Poäng prognos | V3: =IF('Återstående matcher'!V18="","",'Återstående matcher'!V18-'Återstående matcher'!V3) | W3: - | X3: =IF('Återstående matcher'!X18="","",'Återstående matcher'!X18-'Återstående matcher'!X3) | Y3: Poäng prognos | Z3: =IF('Återstående matcher'!Z18="","",'Återstående matcher'!Z18-'Återstående matcher'!Z3) | AA3: - | AB3: =IF('Återstående matcher'!AB18="","",'Återstående matcher'!AB18-'Återstående matcher'!AB3) | AC3: Poäng prognos | AD3: =IF('Återstående matcher'!AD18="","",'Återstående matcher'!AD18-'Återstående matcher'!AD3) | AE3: - | AF3: =IF('Återstående matcher'!AF18="","",'Återstående matcher'!AF18-'Återstående matcher'!AF3) | AG3: Poäng prognos | AH3: =IF('Återstående matcher'!AH18="","",'Återstående matcher'!AH18-'Återstående matcher'!AH3) | AI3: - | AJ3: =IF('Återstående matcher'!AJ18="","",'Återstående matcher'!AJ18-'Återstående matcher'!AJ3) | AK3: Poäng prognos | AL3: =IF('Återstående matcher'!AL18="","",'Återstående matcher'!AL18-'Återstående matcher'!AL3) | AM3: - | AN3: =IF('Återstående matcher'!AN18="","",'Återstående matcher'!AN18-'Återstående matcher'!AN3)
A4: 42416.792 | B4: Växjö Lakers | C4: vs | D4: Djurgården Hockey | E4: 42418.792 | F4: Modo Hockey | G4: vs | H4: Färjestad BK | I4: 42420.667 | J4: Rögle BK | K4: vs | L4: Skellefteå AIK | M4: 42423.792 | N4: Skellefteå AIK | O4: vs | P4: Modo Hockey | Q4: 42425.792 | R4: Örebro Hockey | S4: vs | T4: Djurgården Hockey | U4: 42427.667 | V4: Malmö Redhawks | W4: vs | X4: Karlskrona HK | Y4: 42430.792 | Z4: Djurgården Hockey | AA4: vs | AB4: Modo Hockey | AC4: 42432.792 | AD4: Modo Hockey | AE4: vs | AF4: Växjö Lakers | AG4: 42434.667 | AH4: Örebro Hockey | AI4: vs | AJ4: Skellefteå AIK | AK4: 42437.792 | AL4: Modo Hockey | AM4: vs | AN4: Örebro Hockey
A5: Poäng prognos | B5: =IF('Återstående matcher'!B20="","",'Återstående matcher'!B20-'Återstående matcher'!B5) | C5: - | D5: =IF('Återstående matcher'!D20="","",'Återstående matcher'!D20-'Återstående matcher'!D5) | E5: Poäng prognos | F5: =IF('Återstående matcher'!F20="","",'Återstående matcher'!F20-'Återstående matcher'!F5) | G5: - | H5: =IF('Återstående matcher'!H20="","",'Återstående matcher'!H20-'Återstående matcher'!H5) | I5: Poäng prognos | J5: =IF('Återstående matcher'!J20="","",'Återstående matcher'!J20-'Återstående matcher'!J5) | K5: - | L5: =IF('Återstående matcher'!L20="","",'Återstående matcher'!L20-'Återstående matcher'!L5) | M5: Poäng prognos | N5: =IF('Återstående matcher'!N20="","",'Återstående matcher'!N20-'Återstående matcher'!N5) | O5: - | P5: =IF('Återstående matcher'!P20="","",'Återstående matcher'!P20-'Återstående matcher'!P5) | Q5: Poäng prognos | R5: =IF('Återstående matcher'!R20="","",'Återstående matcher'!R20-'Återstående matcher'!R5) | S5: - | T5: =IF('Återstående matcher'!T20="","",'Återstående matcher'!T20-'Återstående matcher'!T5) | U5: Poäng prognos | V5: =IF('Återstående matcher'!V20="","",'Återstående matcher'!V20-'Återstående matcher'!V5) | W5: - | X5: =IF('Återstående matcher'!X20="","",'Återstående matcher'!X20-'Återstående matcher'!X5) | Y5: Poäng prognos | Z5: =IF('Återstående matcher'!Z20="","",'Återstående matcher'!Z20-'Återstående matcher'!Z5) | AA5: - | AB5: =IF('Återstående matcher'!AB20="","",'Återstående matcher'!AB20-'Återstående matcher'!AB5) | AC5: Poäng prognos | AD5: =IF('Återstående matcher'!AD20="","",'Återstående matcher'!AD20-'Återstående matcher'!AD5) | AE5: - | AF5: =IF('Återstående matcher'!AF20="","",'Återstående matcher'!AF20-'Återstående matcher'!AF5) | AG5: Poäng prognos | AH5: =IF('Återstående matcher'!AH20="","",'Återstående matcher'!AH20-'Återstående matcher'!AH5) | AI5: - | AJ5: =IF('Återstående matcher'!AJ20="","",'Återstående matcher'!AJ20-'Återstående matcher'!AJ5) | AK5: Poäng prognos | AL5: =IF('Återstående matcher'!AL20="","",'Återstående matcher'!AL20-'Återstående matcher'!AL5) | AM5: - | AN5: =IF('Återstående matcher'!AN20="","",'Återstående matcher'!AN20-'Återstående matcher'!AN5)
A6: 42416.792 | B6: Färjestad BK | C6: vs | D6: Örebro Hockey | E6: 42418.792 | F6: Brynäs IF | G6: vs | H6: Rögle BK | I6: 42420.667 | J6: Färjestad BK | K6: vs | L6: Malmö Redhawks | M6: 42423.792 | N6: Djurgården Hockey | O6: vs | P6: Frölunda HC | Q6: 42425.792 | R6: HV 71 | S6: vs | T6: Färjestad BK | U6: 42427.771 | V6: Modo Hockey | W6: vs | X6: Frölunda HC | Y6: 42430.792 | Z6: Växjö Lakers | AA6: vs | AB6: HV 71 | AC6: 42432.792 | AD6: Örebro Hockey | AE6: vs | AF6: Karlskrona HK | AG6: 42434.667 | AH6: Färjestad BK | AI6: vs | AJ6: Brynäs IF | AK6: 42437.792 | AL6: Brynäs IF | AM6: vs | AN6: Frölunda HC
A7: Poäng prognos | B7: =IF('Återstående matcher'!B22="","",'Återstående matcher'!B22-'Återstående matcher'!B7) | C7: - | D7: =IF('Återstående matcher'!D22="","",'Återstående matcher'!D22-'Återstående matcher'!D7) | E7: Poäng prognos | F7: =IF('Återstående matcher'!F22="","",'Återstående matcher'!F22-'Återstående matcher'!F7) | G7: - | H7: =IF('Återstående matcher'!H22="","",'Återstående matcher'!H22-'Återstående matcher'!H7) | I7: Poäng prognos | J7: =IF('Återstående matcher'!J22="","",'Återstående matcher'!J22-'Återstående matcher'!J7) | K7: - | L7: =IF('Återstående matcher'!L22="","",'Återstående matcher'!L22-'Återstående matcher'!L7) | M7: Poäng prognos | N7: =IF('Återstående matcher'!N22="","",'Återstående matcher'!N22-'Återstående matcher'!N7) | O7: - | P7: =IF('Återstående matcher'!P22="","",'Återstående matcher'!P22-'Återstående matcher'!P7) | Q7: Poäng prognos | R7: =IF('Återstående matcher'!R22="","",'Återstående matcher'!R22-'Återstående matcher'!R7) | S7: - | T7: =IF('Återstående matcher'!T22="","",'Återstående matcher'!T22-'Återstående matcher'!T7) | U7: Poäng prognos | V7: =IF('Återstående matcher'!V22="","",'Återstående matcher'!V22-'Återstående matcher'!V7) | W7: - | X7: =IF('Återstående matcher'!X22="","",'Återstående matcher'!X22-'Återstående matcher'!X7) | Y7: Poäng prognos | Z7: =IF('Återstående matcher'!Z22="","",'Återstående matcher'!Z22-'Återstående matcher'!Z7) | AA7: - | AB7: =IF('Återstående matcher'!AB22="","",'Återstående matcher'!AB22-'Återstående matcher'!AB7) | AC7: Poäng prognos | AD7: =IF('Återstående matcher'!AD22="","",'Återstående matcher'!AD22-'Återstående matcher'!AD7) | AE7: - | AF7: =IF('Återstående matcher'!AF22="","",'Återstående matcher'!AF22-'Återstående matcher'!AF7) | AG7: Poäng prognos | AH7: =IF('Återstående matcher'!AH22="","",'Återstående matcher'!AH22-'Återstående matcher'!AH7) | AI7: - | AJ7: =IF('Återstående matcher'!AJ22="","",'Återstående matcher'!AJ22-'Återstående matcher'!AJ7) | AK7: Poäng prognos | AL7: =IF('Återstående matcher'!AL22="","",'Återstående matcher'!AL22-'Återstående matcher'!AL7) | AM7: - | AN7: =IF('Återstående matcher'!AN22="","",'Återstående matcher'!AN22-'Återstående matcher'!AN7)
A8: 42416.792 | B8: Linköping HC | C8: vs | D8: Skellefteå AIK | E8: 42418.792 | F8: Djurgården Hockey | G8: =SUM(F8,Statistik!D11) -> 0 | H8: Linköping HC | I8: 42420.667 | J8: Linköping HC | K8: vs | L8: Växjö Lakers | M8: 42423.792 | N8: Färjestad BK | O8: vs | P8: Karlskrona HK | Q8: 42425.792 | R8: Frölunda HC | S8: vs | T8: Malmö Redhawks | U8: 42427.771 | V8: Örebro Hockey | W8: vs | X8: HV 71 | Y8: 42430.792 | Z8: Linköping HC | AA8: vs | AB8: Örebro Hockey | AC8: 42432.792 | AD8: HV 71 | AE8: vs | AF8: Luleå Hockey | AG8: 42434.667 | AH8: Linköping HC | AI8: vs | AJ8: HV 71 | AK8: 42437.792 | AL8: Djurgården Hockey | AM8: vs | AN8: Färjestad BK
A9: Poäng prognos | B9: =IF('Återstående matcher'!B24="","",'Återstående matcher'!B24-'Återstående matcher'!B9) | C9: - | D9: =IF('Återstående matcher'!D24="","",'Återstående matcher'!D24-'Återstående matcher'!D9) | E9: Poäng prognos | F9: =IF('Återstående matcher'!F24="","",'Återstående matcher'!F24-'Återstående matcher'!F9) | G9: - | H9: =IF('Återstående matcher'!H24="","",'Återstående matcher'!H24-'Återstående matcher'!H9) | I9: Poäng prognos | J9: =IF('Återstående matcher'!J24="","",'Återstående matcher'!J24-'Återstående matcher'!J9) | K9: - | L9: =IF('Återstående matcher'!L24="","",'Återstående matcher'!L24-'Återstående matcher'!L9) | M9: Poäng prognos | N9: =IF('Återstående matcher'!N24="","",'Återstående matcher'!N24-'Återstående matcher'!N9) | O9: - | P9: =IF('Återstående matcher'!P24="","",'Återstående matcher'!P24-'Återstående matcher'!P9) | Q9: Poäng prognos | R9: =IF('Återstående matcher'!R24="","",'Återstående matcher'!R24-'Återstående matcher'!R9) | S9: - | T9: =IF('Återstående matcher'!T24="","",'Återstående matcher'!T24-'Återstående matcher'!T9) | U9: Poäng prognos | V9: =IF('Återstående matcher'!V24="","",'Återstående matcher'!V24-'Återstående matcher'!V9) | W9: - | X9: =IF('Återstående matcher'!X24="","",'Återstående matcher'!X24-'Återstående matcher'!X9) | Y9: Poäng prognos | Z9: =IF('Återstående matcher'!Z24="","",'Återstående matcher'!Z24-'Återstående matcher'!Z9) | AA9: - | AB9: =IF('Återstående matcher'!AB24="","",'Återstående matcher'!AB24-'Återstående matcher'!AB9) | AC9: Poäng prognos | AD9: =IF('Återstående matcher'!AD24="","",'Återstående matcher'!AD24-'Återstående matcher'!AD9) | AE9: - | AF9: =IF('Återstående matcher'!AF24="","",'Återstående matcher'!AF24-'Återstående matcher'!AF9) | AG9: Poäng prognos | AH9: =IF('Återstående matcher'!AH24="","",'Återstående matcher'!AH24-'Återstående matcher'!AH9) | AI9: - | AJ9: =IF('Återstående matcher'!AJ24="","",'Återstående matcher'!AJ24-'Återstående matcher'!AJ9) | AK9: Poäng prognos | AL9: =IF('Återstående matcher'!AL24="","",'Återstående matcher'!AL24-'Återstående matcher'!AL9) | AM9: - | AN9: =IF('Återstående matcher'!AN24="","",'Återstående matcher'!AN24-'Återstående matcher'!AN9)
A10: 42416.792 | B10: HV 71 | C10: vs | D10: Brynäs IF | E10: 42418.792 | F10: Malmö Redhawks | G10: vs | H10: Växjö Lakers | I10: 42420.667 | J10: HV 71 | K10: vs | L10: Karlskrona HK | M10: 42423.792 | N10: Malmö Redhawks | O10: vs | P10: HV 71 | Q10: 42425.792 | R10: Karlskrona HK | S10: vs | T10: Luleå Hockey | U10: 42427.771 | V10: Växjö Lakers | W10: vs | X10: Rögle BK | Y10: 42430.792 | Z10: Karlskrona HK | AA10: vs | AB10: Skellefteå AIK | AC10: 42432.792 | AD10: Frölunda HC | AE10: vs | AF10: Linköping HC | AG10: 42434.667 | AH10: Frölunda HC | AI10: vs | AJ10: Växjö Lakers | AK10: 42437.792 | AL10: Rögle BK | AM10: vs | AN10: Karlskrona HK
A11: Poäng prognos | B11: =IF('Återstående matcher'!B26="","",'Återstående matcher'!B26-'Återstående matcher'!B11) | C11: - | D11: =IF('Återstående matcher'!D26="","",'Återstående matcher'!D26-'Återstående matcher'!D11) | E11: Poäng prognos | F11: =IF('Återstående matcher'!F26="","",'Återstående matcher'!F26-'Återstående matcher'!F11) | G11: - | H11: =IF('Återstående matcher'!H26="","",'Återstående matcher'!H26-'Återstående matcher'!H11) | I11: Poäng prognos | J11: =IF('Återstående matcher'!J26="","",'Återstående matcher'!J26-'Återstående matcher'!J11) | K11: - | L11: =IF('Återstående matcher'!L26="","",'Återstående matcher'!L26-'Återstående matcher'!L11) | M11: Poäng prognos | N11: =IF('Återstående matcher'!N26="","",'Återstående matcher'!N26-'Återstående matcher'!N11) | O11: - | P11: =IF('Återstående matcher'!P26="","",'Återstående matcher'!P26-'Återstående matcher'!P11) | Q11: Poäng prognos | R11: =IF('Återstående matcher'!R26="","",'Återstående matcher'!R26-'Återstående matcher'!R11) | S11: - | T11: =IF('Återstående matcher'!T26="","",'Återstående matcher'!T26-'Återstående matcher'!T11) | U11: Poäng prognos | V11: =IF('Återstående matcher'!V26="","",'Återstående matcher'!V26-'Återstående matcher'!V11) | W11: - | X11: =IF('Återstående matcher'!X26="","",'Återstående matcher'!X26-'Återstående matcher'!X11) | Y11: Poäng prognos | Z11: =IF('Återstående matcher'!Z26="","",'Återstående matcher'!Z26-'Återstående matcher'!Z11) | AA11: - | AB11: =IF('Återstående matcher'!AB26="","",'Återstående matcher'!AB26-'Återstående matcher'!AB11) | AC11: Poäng prognos | AD11: =IF('Återstående matcher'!AD26="","",'Återstående matcher'!AD26-'Återstående matcher'!AD11) | AE11: - | AF11: =IF('Återstående matcher'!AF26="","",'Återstående matcher'!AF26-'Återstående matcher'!AF11) | AG11: Poäng prognos | AH11: =IF('Återstående matcher'!AH26="","",'Återstående matcher'!AH26-'Återstående matcher'!AH11) | AI11: - | AJ11: =IF('Återstående matcher'!AJ26="","",'Återstående matcher'!AJ26-'Återstående matcher'!AJ11) | AK11: Poäng prognos | AL11: =IF('Återstående matcher'!AL26="","",'Återstående matcher'!AL26-'Återstående matcher'!AL11) | AM11: - | AN11: =IF('Återstående matcher'!AN26="","",'Återstående matcher'!AN26-'Återstående matcher'!AN11)
A12: 42416.792 | B12: Luleå Hockey | C12: vs | D12: Malmö Redhawks | E12: 42419.792 | F12: Örebro Hockey | G12: vs | H12: Frölunda HC | I12: 42420.771 | J12: Luleå Hockey | K12: vs | L12: Modo Hockey | M12: 42424.792 | N12: Växjö Lakers | O12: vs | P12: Brynäs IF | Q12: 42426.792 | R12: Rögle BK | S12: vs | T12: Växjö Lakers | U12: 42427.771 | V12: Linköping HC | W12: vs | X12: Brynäs IF | Y12: 42431.792 | Z12: Färjestad BK | AA12: vs | AB12: Rögle BK | AC12: 42433.792 | AD12: Brynäs IF | AE12: vs | AF12: Färjestad BK | AG12: 42434.667 | AH12: Malmö Redhawks | AI12: vs | AJ12: Rögle BK | AK12: 42437.792 | AL12: Växjö Lakers | AM12: vs | AN12: Luleå Hockey
A13: Poäng prognos | B13: =IF('Återstående matcher'!B28="","",'Återstående matcher'!B28-'Återstående matcher'!B13) | C13: - | D13: =IF('Återstående matcher'!D28="","",'Återstående matcher'!D28-'Återstående matcher'!D13) | E13: Poäng prognos | F13: =IF('Återstående matcher'!F28="","",'Återstående matcher'!F28-'Återstående matcher'!F13) | G13: - | H13: =IF('Återstående matcher'!H28="","",'Återstående matcher'!H28-'Återstående matcher'!H13) | I13: Poäng prognos | J13: =IF('Återstående matcher'!J28="","",'Återstående matcher'!J28-'Återstående matcher'!J13) | K13: - | L13: =IF('Återstående matcher'!L28="","",'Återstående matcher'!L28-'Återstående matcher'!L13) | M13: Poäng prognos | N13: =IF('Återstående matcher'!N28="","",'Återstående matcher'!N28-'Återstående matcher'!N13) | O13: - | P13: =IF('Återstående matcher'!P28="","",'Återstående matcher'!P28-'Återstående matcher'!P13) | Q13: Poäng prognos | R13: =IF('Återstående matcher'!R28="","",'Återstående matcher'!R28-'Återstående matcher'!R13) | S13: - | T13: =IF('Återstående matcher'!T28="","",'Återstående matcher'!T28-'Återstående matcher'!T13) | U13: Poäng prognos | V13: =IF('Återstående matcher'!V28="","",'Återstående matcher'!V28-'Återstående matcher'!V13) | W13: - | X13: =IF('Återstående matcher'!X28="","",'Återstående matcher'!X28-'Återstående matcher'!X13) | Y13: Poäng prognos | Z13: =IF('Återstående matcher'!Z28="","",'Återstående matcher'!Z28-'Återstående matcher'!Z13) | AA13: - | AB13: =IF('Återstående matcher'!AB28="","",'Återstående matcher'!AB28-'Återstående matcher'!AB13) | AC13: Poäng prognos | AD13: =IF('Återstående matcher'!AD28="","",'Återstående matcher'!AD28-'Återstående matcher'!AD13) | AE13: - | AF13: =IF('Återstående matcher'!AF28="","",'Återstående matcher'!AF28-'Återstående matcher'!AF13) | AG13: Poäng prognos | AH13: =IF('Återstående matcher'!AH28="","",'Återstående matcher'!AH28-'Återstående matcher'!AH13) | AI13: - | AJ13: =IF('Återstående matcher'!AJ28="","",'Återstående matcher'!AJ28-'Återstående matcher'!AJ13) | AK13: Poäng prognos | AL13: =IF('Återstående matcher'!AL28="","",'Återstående matcher'!AL28-'Återstående matcher'!AL13) | AM13: - | AN13: =IF('Återstående matcher'!AN28="","",'Återstående matcher'!AN28-'Återstående matcher'!AN13)
A14: 42417.792 | B14: Frölunda HC | C14: vs | D14: Karlskrona HK | E14: 42419.792 | F14: Karlskrona HK | G14: vs | H14: HV 71 | I14: 42420.771 | J14: Frölunda HC | K14: vs | L14: Örebro Hockey | M14: 42424.792 | N14: Linköping HC | O14: vs | P14: Rögle BK | Q14: 42428.792 | R14: Brynäs IF | S14: vs | T14: Linköping HC | U14: 42427.771 | V14: Djurgården Hockey | W14: vs | X14: Luleå Hockey | Y14: 42431.792 | Z14: Malmö Redhawks | AA14: vs | AB14: Brynäs IF | AC14: 42433.792 | AD14: Rögle BK | AE14: vs | AF14: Malmö Redhawks | AG14: 42434.667 | AH14: Karlskrona HK | AI14: vs | AJ14: Modo Hockey | AK14: 42437.792 | AL14: Linköping HC | AM14: vs | AN14: Malmö Redhawks
A15: Poäng prognos | B15: =IF('Återstående matcher'!B30="","",'Återstående matcher'!B30-'Återstående matcher'!B15) | C15: - | D15: =IF('Återstående matcher'!D30="","",'Återstående matcher'!D30-'Återstående matcher'!D15) | E15: Poäng prognos | F15: =IF('Återstående matcher'!F30="","",'Återstående matcher'!F30-'Återstående matcher'!F15) | G15: - | H15: =IF('Återstående matcher'!H30="","",'Återstående matcher'!H30-'Återstående matcher'!H15) | I15: Poäng prognos | J15: =IF('Återstående matcher'!J30="","",'Återstående matcher'!J30-'Återstående matcher'!J15) | K15: - | L15: =IF('Återstående matcher'!L30="","",'Återstående matcher'!L30-'Återstående matcher'!L15) | M15: Poäng prognos | N15: =IF('Återstående matcher'!N30="","",'Återstående matcher'!N30-'Återstående matcher'!N15) | O15: - | P15: =IF('Återstående matcher'!P30="","",'Återstående matcher'!P30-'Återstående matcher'!P15) | Q15: Poäng prognos | R15: =IF('Återstående matcher'!R30="","",'Återstående matcher'!R30-'Återstående matcher'!R15) | S15: - | T15: =IF('Återstående matcher'!T30="","",'Återstående matcher'!T30-'Återstående matcher'!T15) | U15: Poäng prognos | V15: =IF('Återstående matcher'!V30="","",'Återstående matcher'!V30-'Återstående matcher'!V15) | W15: - | X15: =IF('Återstående matcher'!X30="","",'Återstående matcher'!X30-'Återstående matcher'!X15) | Y15: Poäng prognos | Z15: =IF('Återstående matcher'!Z30="","",'Återstående matcher'!Z30-'Återstående matcher'!Z15) | AA15: - | AB15: =IF('Återstående matcher'!AB30="","",'Återstående matcher'!AB30-'Återstående matcher'!AB15) | AC15: Poäng prognos | AD15: =IF('Återstående matcher'!AD30="","",'Återstående matcher'!AD30-'Återstående matcher'!AD15) | AE15: - | AF15: =IF('Återstående matcher'!AF30="","",'Återstående matcher'!AF30-'Återstående matcher'!AF15) | AG15: Poäng prognos | AH15: =IF('Återstående matcher'!AH30="","",'Återstående matcher'!AH30-'Återstående matcher'!AH15) | AI15: - | AJ15: =IF('Återstående matcher'!AJ30="","",'Återstående matcher'!AJ30-'Återstående matcher'!AJ15) | AK15: Poäng prognos | AL15: =IF('Återstående matcher'!AL30="","",'Återstående matcher'!AL30-'Återstående matcher'!AL15) | AM15: - | AN15: =IF('Återstående matcher'!AN30="","",'Återstående matcher'!AN30-'Återstående matcher'!AN15)
A16: fel | B16: =IF(B3="","",IF(B3<>0,1,0)) | F16: =IF(F3="","",IF(F3<>0,1,0)) | J16: =IF(J3="","",IF(J3<>0,1,0)) | N16: =IF(N3="","",IF(N3<>0,1,0)) | R16: =IF(R3="","",IF(R3<>0,1,0)) | V16: =IF(V3="","",IF(V3<>0,1,0)) | Z16: =IF(Z3="","",IF(Z3<>0,1,0)) | AD16: =IF(AD3="","",IF(AD3<>0,1,0)) | AH16: =IF(AH3="","",IF(AH3<>0,1,0)) | AL16: =IF(AL3="","",IF(AL3<>0,1,0))
A17: rätt | B17: =IF(B3="","",IF(B3=0,1,0)) | F17: =IF(F3="","",IF(F3=0,1,0)) | J17: =IF(J3="","",IF(J3=0,1,0)) | N17: =IF(N3="","",IF(N3=0,1,0)) | R17: =IF(R3="","",IF(R3=0,1,0)) | V17: =IF(V3="","",IF(V3=0,1,0)) | Z17: =IF(Z3="","",IF(Z3=0,1,0)) | AD17: =IF(AD3="","",IF(AD3=0,1,0)) | AH17: =IF(AH3="","",IF(AH3=0,1,0)) | AL17: =IF(AL3="","",IF(AL3=0,1,0))
A18: fel | B18: =IF(B5="","",IF(B5<>0,1,0)) | F18: =IF(F5="","",IF(F5<>0,1,0)) | J18: =IF(J5="","",IF(J5<>0,1,0)) | N18: =IF(N5="","",IF(N5<>0,1,0)) | R18: =IF(R5="","",IF(R5<>0,1,0)) | V18: =IF(V5="","",IF(V5<>0,1,0)) | Z18: =IF(Z5="","",IF(Z5<>0,1,0)) | AD18: =IF(AD5="","",IF(AD5<>0,1,0)) | AH18: =IF(AH5="","",IF(AH5<>0,1,0)) | AL18: =IF(AL5="","",IF(AL5<>0,1,0))
A19: rätt | B19: =IF(B5="","",IF(B5=0,1,0)) | F19: =IF(F5="","",IF(F5=0,1,0)) | J19: =IF(J5="","",IF(J5=0,1,0)) | N19: =IF(N5="","",IF(N5=0,1,0)) | R19: =IF(R5="","",IF(R5=0,1,0)) | V19: =IF(V5="","",IF(V5=0,1,0)) | Z19: =IF(Z5="","",IF(Z5=0,1,0)) | AD19: =IF(AD5="","",IF(AD5=0,1,0)) | AH19: =IF(AH5="","",IF(AH5=0,1,0)) | AL19: =IF(AL5="","",IF(AL5=0,1,0))
A20: fel | B20: =IF(B7="","",IF(B7<>0,1,0)) | F20: =IF(F7="","",IF(F7<>0,1,0)) | J20: =IF(J7="","",IF(J7<>0,1,0)) | N20: =IF(N7="","",IF(N7<>0,1,0)) | R20: =IF(R7="","",IF(R7<>0,1,0)) | V20: =IF(V7="","",IF(V7<>0,1,0)) | Z20: =IF(Z7="","",IF(Z7<>0,1,0)) | AD20: =IF(AD7="","",IF(AD7<>0,1,0)) | AH20: =IF(AH7="","",IF(AH7<>0,1,0)) | AL20: =IF(AL7="","",IF(AL7<>0,1,0))
A21: rätt | B21: =IF(B7="","",IF(B7=0,1,0)) | F21: =IF(F7="","",IF(F7=0,1,0)) | J21: =IF(J7="","",IF(J7=0,1,0)) | N21: =IF(N7="","",IF(N7=0,1,0)) | R21: =IF(R7="","",IF(R7=0,1,0)) | V21: =IF(V7="","",IF(V7=0,1,0)) | Z21: =IF(Z7="","",IF(Z7=0,1,0)) | AD21: =IF(AD7="","",IF(AD7=0,1,0)) | AH21: =IF(AH7="","",IF(AH7=0,1,0)) | AL21: =IF(AL7="","",IF(AL7=0,1,0))
A22: fel | B22: =IF(B9="","",IF(B9<>0,1,0)) | F22: =IF(F9="","",IF(F9<>0,1,0)) | J22: =IF(J9="","",IF(J9<>0,1,0)) | N22: =IF(N9="","",IF(N9<>0,1,0)) | R22: =IF(R9="","",IF(R9<>0,1,0)) | V22: =IF(V9="","",IF(V9<>0,1,0)) | Z22: =IF(Z9="","",IF(Z9<>0,1,0)) | AD22: =IF(AD9="","",IF(AD9<>0,1,0)) | AH22: =IF(AH9="","",IF(AH9<>0,1,0)) | AL22: =IF(AL9="","",IF(AL9<>0,1,0))
A23: rätt | B23: =IF(B9="","",IF(B9=0,1,0)) | F23: =IF(F9="","",IF(F9=0,1,0)) | J23: =IF(J9="","",IF(J9=0,1,0)) | N23: =IF(N9="","",IF(N9=0,1,0)) | R23: =IF(R9="","",IF(R9=0,1,0)) | V23: =IF(V9="","",IF(V9=0,1,0)) | Z23: =IF(Z9="","",IF(Z9=0,1,0)) | AD23: =IF(AD9="","",IF(AD9=0,1,0)) | AH23: =IF(AH9="","",IF(AH9=0,1,0)) | AL23: =IF(AL9="","",IF(AL9=0,1,0))
A24: fel | B24: =IF(B11="","",IF(B11<>0,1,0)) | F24: =IF(F11="","",IF(F11<>0,1,0)) | J24: =IF(J11="","",IF(J11<>0,1,0)) | N24: =IF(N11="","",IF(N11<>0,1,0)) | R24: =IF(R11="","",IF(R11<>0,1,0)) | V24: =IF(V11="","",IF(V11<>0,1,0)) | Z24: =IF(Z11="","",IF(Z11<>0,1,0)) | AD24: =IF(AD11="","",IF(AD11<>0,1,0)) | AH24: =IF(AH11="","",IF(AH11<>0,1,0)) | AL24: =IF(AL11="","",IF(AL11<>0,1,0))
A25: rätt | B25: =IF(B11="","",IF(B11=0,1,0)) | F25: =IF(F11="","",IF(F11=0,1,0)) | J25: =IF(J11="","",IF(J11=0,1,0)) | N25: =IF(N11="","",IF(N11=0,1,0)) | R25: =IF(R11="","",IF(R11=0,1,0)) | V25: =IF(V11="","",IF(V11=0,1,0)) | Z25: =IF(Z11="","",IF(Z11=0,1,0)) | AD25: =IF(AD11="","",IF(AD11=0,1,0)) | AH25: =IF(AH11="","",IF(AH11=0,1,0)) | AL25: =IF(AL11="","",IF(AL11=0,1,0))
A26: fel | B26: =IF(B13="","",IF(B13<>0,1,0)) | F26: =IF(F13="","",IF(F13<>0,1,0)) | J26: =IF(J13="","",IF(J13<>0,1,0)) | N26: =IF(N13="","",IF(N13<>0,1,0)) | R26: =IF(R13="","",IF(R13<>0,1,0)) | V26: =IF(V13="","",IF(V13<>0,1,0)) | Z26: =IF(Z13="","",IF(Z13<>0,1,0)) | AD26: =IF(AD13="","",IF(AD13<>0,1,0)) | AH26: =IF(AH13="","",IF(AH13<>0,1,0)) | AL26: =IF(AL13="","",IF(AL13<>0,1,0))
A27: rätt | B27: =IF(B13="","",IF(B13=0,1,0)) | F27: =IF(F13="","",IF(F13=0,1,0)) | J27: =IF(J13="","",IF(J13=0,1,0)) | N27: =IF(N13="","",IF(N13=0,1,0)) | R27: =IF(R13="","",IF(R13=0,1,0)) | V27: =IF(V13="","",IF(V13=0,1,0)) | Z27: =IF(Z13="","",IF(Z13=0,1,0)) | AD27: =IF(AD13="","",IF(AD13=0,1,0)) | AH27: =IF(AH13="","",IF(AH13=0,1,0)) | AL27: =IF(AL13="","",IF(AL13=0,1,0))
A28: fel | B28: =IF(B15="","",IF(B15<>0,1,0)) | F28: =IF(F15="","",IF(F15<>0,1,0)) | J28: =IF(J15="","",IF(J15<>0,1,0)) | N28: =IF(N15="","",IF(N15<>0,1,0)) | R28: =IF(R15="","",IF(R15<>0,1,0)) | V28: =IF(V15="","",IF(V15<>0,1,0)) | Z28: =IF(Z15="","",IF(Z15<>0,1,0)) | AD28: =IF(AD15="","",IF(AD15<>0,1,0)) | AH28: =IF(AH15="","",IF(AH15<>0,1,0)) | AL28: =IF(AL15="","",IF(AL15<>0,1,0))
A29: rätt | B29: =IF(B15="","",IF(B15=0,1,0)) | F29: =IF(F15="","",IF(F15=0,1,0)) | J29: =IF(J15="","",IF(J15=0,1,0)) | N29: =IF(N15="","",IF(N15=0,1,0)) | R29: =IF(R15="","",IF(R15=0,1,0)) | V29: =IF(V15="","",IF(V15=0,1,0)) | Z29: =IF(Z15="","",IF(Z15=0,1,0)) | AD29: =IF(AD15="","",IF(AD15=0,1,0)) | AH29: =IF(AH15="","",IF(AH15=0,1,0)) | AL29: =IF(AL15="","",IF(AL15=0,1,0))
A30: Antal fel per omg | B30: =SUM(B16,B18,B20,B22,B24,B26,B28) -> 0 | F30: =SUM(F16,F18,F20,F22,F24,F26,F28) -> 0 | J30: =SUM(J16,J18,J20,J22,J24,J26,J28) -> 0 | N30: =SUM(N16,N18,N20,N22,N24,N26,N28) -> 0 | R30: =SUM(R16,R18,R20,R22,R24,R26,R28) -> 0 | V30: =SUM(V16,V18,V20,V22,V24,V26,V28) -> 0 | Z30: =SUM(Z16,Z18,Z20,Z22,Z24,Z26,Z28) -> 0 | AD30: =SUM(AD16,AD18,AD20,AD22,AD24,AD26,AD28) -> 0 | AH30: =SUM(AH16,AH18,AH20,AH22,AH24,AH26,AH28) -> 0 | AL30: =SUM(AL16,AL18,AL20,AL22,AL24,AL26,AL28) -> 0
A31: Antal rätt per omg | B31: =SUM(B17,B19,B21,B23,B25,B27,B29) -> 0 | F31: =SUM(F17,F19,F21,F23,F25,F27,F29) -> 0 | J31: =SUM(J17,J19,J21,J23,J25,J27,J29) -> 0 | N31: =SUM(N17,N19,N21,N23,N25,N27,N29) -> 0 | R31: =SUM(R17,R19,R21,R23,R25,R27,R29) -> 0 | V31: =SUM(V17,V19,V21,V23,V25,V27,V29) -> 0 | Z31: =SUM(Z17,Z19,Z21,Z23,Z25,Z27,Z29) -> 0 | AD31: =SUM(AD17,AD19,AD21,AD23,AD25,AD27,AD29) -> 0 | AH31: =SUM(AH17,AH19,AH21,AH23,AH25,AH27,AH29) -> 0 | AL31: =SUM(AL17,AL19,AL21,AL23,AL25,AL27,AL29) -> 0
A32: Antal fel totalt | B32: =SUM(B30,F30,J30,N30,R30,V30,Z30,AD30,AH30,AL30) -> 0
A33: Antal rätt totalt | B33: =SUM(B31,F31,J31,N31,R31,V31,Z31,AD31,AH31,AL31) -> 0
B35: =IF(B17="",2,B17-B16) -> 2 | F35: =IF(F17="",2,F17-F16) -> 2 | J35: =IF(J17="",2,J17-J16) -> 2 | N35: =IF(N17="",2,N17-N16) -> 2 | R35: =IF(R17="",2,R17-R16) -> 2 | V35: =IF(V17="",2,V17-V16) -> 2 | Z35: =IF(Z17="",2,Z17-Z16) -> 2 | AD35: =IF(AD17="",2,AD17-AD16) -> 2 | AH35: =IF(AH17="",2,AH17-AH16) -> 2 | AL35: =IF(AL17="",2,AL17-AL16) -> 2
B36: =IF(B19="",2,B19-B18) -> 2 | F36: =IF(F19="",2,F19-F18) -> 2 | J36: =IF(J19="",2,J19-J18) -> 2 | N36: =IF(N19="",2,N19-N18) -> 2 | R36: =IF(R19="",2,R19-R18) -> 2 | V36: =IF(V19="",2,V19-V18) -> 2 | Z36: =IF(Z19="",2,Z19-Z18) -> 2 | AD36: =IF(AD19="",2,AD19-AD18) -> 2 | AH36: =IF(AH19="",2,AH19-AH18) -> 2 | AL36: =IF(AL19="",2,AL19-AL18) -> 2
B37: =IF(B21="",2,B21-B20) -> 2 | F37: =IF(F21="",2,F21-F20) -> 2 | J37: =IF(J21="",2,J21-J20) -> 2 | N37: =IF(N21="",2,N21-N20) -> 2 | R37: =IF(R21="",2,R21-R20) -> 2 | V37: =IF(V21="",2,V21-V20) -> 2 | Z37: =IF(Z21="",2,Z21-Z20) -> 2 | AD37: =IF(AD21="",2,AD21-AD20) -> 2 | AH37: =IF(AH21="",2,AH21-AH20) -> 2 | AL37: =IF(AL21="",2,AL21-AL20) -> 2
B38: =IF(B23="",2,B23-B22) -> 2 | F38: =IF(F23="",2,F23-F22) -> 2 | J38: =IF(J23="",2,J23-J22) -> 2 | N38: =IF(N23="",2,N23-N22) -> 2 | R38: =IF(R23="",2,R23-R22) -> 2 | V38: =IF(V23="",2,V23-V22) -> 2 | Z38: =IF(Z23="",2,Z23-Z22) -> 2 | AD38: =IF(AD23="",2,AD23-AD22) -> 2 | AH38: =IF(AH23="",2,AH23-AH22) -> 2 | AL38: =IF(AL23="",2,AL23-AL22) -> 2
B39: =IF(B25="",2,B25-B24) -> 2 | F39: =IF(F25="",2,F25-F24) -> 2 | J39: =IF(J25="",2,J25-J24) -> 2 | N39: =IF(N25="",2,N25-N24) -> 2 | R39: =IF(R25="",2,R25-R24) -> 2 | V39: =IF(V25="",2,V25-V24) -> 2 | Z39: =IF(Z25="",2,Z25-Z24) -> 2 | AD39: =IF(AD25="",2,AD25-AD24) -> 2 | AH39: =IF(AH25="",2,AH25-AH24) -> 2 | AL39: =IF(AL25="",2,AL25-AL24) -> 2
B40: =IF(B27="",2,B27-B26) -> 2 | F40: =IF(F27="",2,F27-F26) -> 2 | J40: =IF(J27="",2,J27-J26) -> 2 | N40: =IF(N27="",2,N27-N26) -> 2 | R40: =IF(R27="",2,R27-R26) -> 2 | V40: =IF(V27="",2,V27-V26) -> 2 | Z40: =IF(Z27="",2,Z27-Z26) -> 2 | AD40: =IF(AD27="",2,AD27-AD26) -> 2 | AH40: =IF(AH27="",2,AH27-AH26) -> 2 | AL40: =IF(AL27="",2,AL27-AL26) -> 2
B41: =IF(B29="",2,B29-B28) -> 2 | F41: =IF(F29="",2,F29-F28) -> 2 | J41: =IF(J29="",2,J29-J28) -> 2 | N41: =IF(N29="",2,N29-N28) -> 2 | R41: =IF(R29="",2,R29-R28) -> 2 | V41: =IF(V29="",2,V29-V28) -> 2 | Z41: =IF(Z29="",2,Z29-Z28) -> 2 | AD41: =IF(AD29="",2,AD29-AD28) -> 2 | AH41: =IF(AH29="",2,AH29-AH28) -> 2 | AL41: =IF(AL29="",2,AL29-AL28) -> 2
